BEGIN:VCALENDAR
VERSION:2.0
PRODID:-//Collindale Pool - ECPv6.15.20//NONSGML v1.0//EN
CALSCALE:GREGORIAN
METHOD:PUBLISH
X-ORIGINAL-URL:https://collindalepool.com
X-WR-CALDESC:Events for Collindale Pool
REFRESH-INTERVAL;VALUE=DURATION:PT1H
X-Robots-Tag:noindex
X-PUBLISHED-TTL:PT1H
BEGIN:VTIMEZONE
TZID:America/Denver
BEGIN:DAYLIGHT
TZOFFSETFROM:-0700
TZOFFSETTO:-0600
TZNAME:MDT
DTSTART:20140309T090000
END:DAYLIGHT
BEGIN:STANDARD
TZOFFSETFROM:-0600
TZOFFSETTO:-0700
TZNAME:MST
DTSTART:20141102T080000
END:STANDARD
BEGIN:DAYLIGHT
TZOFFSETFROM:-0700
TZOFFSETTO:-0600
TZNAME:MDT
DTSTART:20150308T090000
END:DAYLIGHT
BEGIN:STANDARD
TZOFFSETFROM:-0600
TZOFFSETTO:-0700
TZNAME:MST
DTSTART:20151101T080000
END:STANDARD
BEGIN:DAYLIGHT
TZOFFSETFROM:-0700
TZOFFSETTO:-0600
TZNAME:MDT
DTSTART:20160313T090000
END:DAYLIGHT
BEGIN:STANDARD
TZOFFSETFROM:-0600
TZOFFSETTO:-0700
TZNAME:MST
DTSTART:20161106T080000
END:STANDARD
BEGIN:DAYLIGHT
TZOFFSETFROM:-0700
TZOFFSETTO:-0600
TZNAME:MDT
DTSTART:20170312T090000
END:DAYLIGHT
BEGIN:STANDARD
TZOFFSETFROM:-0600
TZOFFSETTO:-0700
TZNAME:MST
DTSTART:20171105T080000
END:STANDARD
BEGIN:DAYLIGHT
TZOFFSETFROM:-0700
TZOFFSETTO:-0600
TZNAME:MDT
DTSTART:20180311T090000
END:DAYLIGHT
BEGIN:STANDARD
TZOFFSETFROM:-0600
TZOFFSETTO:-0700
TZNAME:MST
DTSTART:20181104T080000
END:STANDARD
END:VTIMEZONE
BEGIN:VTIMEZONE
TZID:UTC
BEGIN:STANDARD
TZOFFSETFROM:+0000
TZOFFSETTO:+0000
TZNAME:UTC
DTSTART:20150101T000000
END:STANDARD
END:VTIMEZONE
BEGIN:VEVENT
DTSTART;TZID=America/Denver:20170611T120000
DTEND;TZID=America/Denver:20170611T150000
DTSTAMP:20260423T113759
CREATED:20170327T182701Z
LAST-MODIFIED:20170601T183701Z
UID:4466-1497182400-1497193200@collindalepool.com
SUMMARY:Grand Opening Celebration
DESCRIPTION:Join us for our Grand Opening Celebration on June 11th – from 12pm-3pm.  We’ll show you why you made the right decision to spend the summer with us.  Food\, games and fun for all!
URL:https://collindalepool.com/event/grand-opening-celebration/
END:VEVENT
BEGIN:VEVENT
DTSTART;TZID=America/Denver:20160918T110000
DTEND;TZID=America/Denver:20160918T200000
DTSTAMP:20260423T113759
CREATED:20160819T183234Z
LAST-MODIFIED:20160819T183234Z
UID:4163-1474196400-1474228800@collindalepool.com
SUMMARY:LAST DAY!
DESCRIPTION:This will be that last day the pool is open\, thank you so much for an amazing summer!
URL:https://collindalepool.com/event/last-day/
END:VEVENT
BEGIN:VEVENT
DTSTART;TZID=America/Denver:20160917T110000
DTEND;TZID=America/Denver:20160917T200000
DTSTAMP:20260423T113759
CREATED:20160819T183113Z
LAST-MODIFIED:20160819T183113Z
UID:4162-1474110000-1474142400@collindalepool.com
SUMMARY:Bonus Weekend!
DESCRIPTION:Pool Open 11am-8pm
URL:https://collindalepool.com/event/bonus-weekend-3/
END:VEVENT
BEGIN:VEVENT
DTSTART;TZID=America/Denver:20160911T110000
DTEND;TZID=America/Denver:20160911T200000
DTSTAMP:20260423T113759
CREATED:20160819T183019Z
LAST-MODIFIED:20160819T183019Z
UID:4161-1473591600-1473624000@collindalepool.com
SUMMARY:Bonus Weekend!
DESCRIPTION:Pool Open 11am-8pm
URL:https://collindalepool.com/event/bonus-weekend-2/
END:VEVENT
BEGIN:VEVENT
DTSTART;TZID=America/Denver:20160910T110000
DTEND;TZID=America/Denver:20160910T200000
DTSTAMP:20260423T113759
CREATED:20160819T182912Z
LAST-MODIFIED:20160819T182912Z
UID:4160-1473505200-1473537600@collindalepool.com
SUMMARY:Bonus Weekend!
DESCRIPTION:Pool Open 11am-8pm
URL:https://collindalepool.com/event/bonus-weekend/
END:VEVENT
BEGIN:VEVENT
DTSTART;TZID=America/Denver:20160905T110000
DTEND;TZID=America/Denver:20160905T200000
DTSTAMP:20260423T113759
CREATED:20160819T182758Z
LAST-MODIFIED:20160819T182758Z
UID:4159-1473073200-1473105600@collindalepool.com
SUMMARY:Labor Day
DESCRIPTION:Pool Open Holiday Hours!
URL:https://collindalepool.com/event/labor-day/
END:VEVENT
BEGIN:VEVENT
DTSTART;TZID=UTC:20160819T160000
DTEND;TZID=UTC:20160819T190000
DTSTAMP:20260423T113800
CREATED:20150811T084048Z
LAST-MODIFIED:20160817T203203Z
UID:352-1471622400-1471633200@collindalepool.com
SUMMARY:School Hours Begin August 19th 4-7pm
DESCRIPTION:
URL:https://collindalepool.com/event/school-hours-begin-pool-opens-at-330-weekdays/
END:VEVENT
BEGIN:VEVENT
DTSTART;TZID=UTC:20160801T093000
DTEND;TZID=UTC:20160811T110000
DTSTAMP:20260423T113800
CREATED:20150519T224458Z
LAST-MODIFIED:20160518T011009Z
UID:337-1470043800-1470913200@collindalepool.com
SUMMARY:Swim Lessons: Session 5
DESCRIPTION:This session runs Monday through Thursday for two weeks\, August 1 – 11. Ages 3 through 10 are welcome to learn in a fun and relaxed environment with Red Cross certified instructors. \nRegister for Swim Lessons Here
URL:https://collindalepool.com/event/swim-lessons-session-five-begins/
LOCATION:Collindale Pool\, Fort Collins
CATEGORIES:Swim Lessons
END:VEVENT
BEGIN:VEVENT
DTSTART;TZID=UTC:20160718T093000
DTEND;TZID=UTC:20160728T110000
DTSTAMP:20260423T113800
CREATED:20150519T224425Z
LAST-MODIFIED:20160518T011029Z
UID:336-1468834200-1469703600@collindalepool.com
SUMMARY:Swim Lessons: Session 4
DESCRIPTION:This session runs Monday through Thursday for two weeks\, July 18 – 28. Ages 3 through 10 are welcome to learn in a fun and relaxed environment with Red Cross certified instructors. \nRegister for Swim Lessons Here
URL:https://collindalepool.com/event/swim-lessons-session-four-begins/
CATEGORIES:Swim Lessons
END:VEVENT
BEGIN:VEVENT
DTSTART;TZID=UTC:20160705T093000
DTEND;TZID=UTC:20160714T110000
DTSTAMP:20260423T113800
CREATED:20150519T224349Z
LAST-MODIFIED:20160518T011126Z
UID:335-1467711000-1468494000@collindalepool.com
SUMMARY:Swim Lessons: Session 3
DESCRIPTION:This session runs Monday through Thursday for two weeks\, July 5 – July 14. Ages 3 through 10 are welcome to learn in a fun and relaxed environment with Red Cross certified instructors. \nRegister for Swim Lessons Here
URL:https://collindalepool.com/event/swim-lessons-session-three-begins/
LOCATION:Collindale Pool\, Fort Collins
CATEGORIES:Swim Lessons
END:VEVENT
BEGIN:VEVENT
DTSTART;TZID=UTC:20160620T093000
DTEND;TZID=UTC:20160630T110000
DTSTAMP:20260423T113800
CREATED:20150519T224258Z
LAST-MODIFIED:20160518T011159Z
UID:334-1466415000-1467284400@collindalepool.com
SUMMARY:Swim Lessons - Session 2
DESCRIPTION:This session runs Monday through Thursday for two weeks\, June 20-30. Ages 3 through 10 are welcome to learn in a fun and relaxed environment with Red Cross certified instructors. \nRegister for Swim Lessons Here
URL:https://collindalepool.com/event/swim-lessons-session-two-begins/
LOCATION:Collindale Pool\, Fort Collins
CATEGORIES:Swim Lessons
END:VEVENT
BEGIN:VEVENT
DTSTART;TZID=UTC:20160606T093000
DTEND;TZID=UTC:20160616T110000
DTSTAMP:20260423T113800
CREATED:20150511T181141Z
LAST-MODIFIED:20160518T011222Z
UID:317-1465205400-1466074800@collindalepool.com
SUMMARY:Swim Lessons: Session 1
DESCRIPTION:This session runs Monday through Thursday for two weeks from June 6 – 16. Ages 3 through 10 are welcome to learn in a fun and relaxed environment with Red Cross certified instructors. \nRegister for Swim Lessons Here
URL:https://collindalepool.com/event/swim-lessons-session-one-begins/
LOCATION:Collindale Pool\, Fort Collins
CATEGORIES:Swim Lessons
END:VEVENT
BEGIN:VEVENT
DTSTART;TZID=America/Denver:20150906T110000
DTEND;TZID=America/Denver:20150906T200000
DTSTAMP:20260423T113800
CREATED:20150511T180841Z
LAST-MODIFIED:20150809T064950Z
UID:312-1441537200-1441569600@collindalepool.com
SUMMARY:Last day before pool closes!
DESCRIPTION:
URL:https://collindalepool.com/event/pool-closes/
END:VEVENT
BEGIN:VEVENT
DTSTART;TZID=America/Denver:20150708T000000
DTEND;TZID=America/Denver:20150708T000000
DTSTAMP:20260423T113800
CREATED:20150511T180841Z
LAST-MODIFIED:20150511T180841Z
UID:313-1436313600-1436313600@collindalepool.com
SUMMARY:Purple/Gold intersquad relay
DESCRIPTION:
URL:https://collindalepool.com/event/purplegold-intersquad-relay/
END:VEVENT
BEGIN:VEVENT
DTSTART;TZID=America/Denver:20150617T000000
DTEND;TZID=America/Denver:20150617T000000
DTSTAMP:20260423T113800
CREATED:20150511T180841Z
LAST-MODIFIED:20150511T180841Z
UID:314-1434499200-1434499200@collindalepool.com
SUMMARY:Swim team - Village Green
DESCRIPTION:
URL:https://collindalepool.com/event/swim-team-village-green/
END:VEVENT
BEGIN:VEVENT
DTSTART;TZID=America/Denver:20150613T000000
DTEND;TZID=America/Denver:20150613T000000
DTSTAMP:20260423T113800
CREATED:20150511T180841Z
LAST-MODIFIED:20150511T180841Z
UID:315-1434153600-1434153600@collindalepool.com
SUMMARY:Swim team - Willow Springs
DESCRIPTION:
URL:https://collindalepool.com/event/swim-team-willow-springs/
END:VEVENT
BEGIN:VEVENT
DTSTART;TZID=America/Denver:20150606T000000
DTEND;TZID=America/Denver:20150606T000000
DTSTAMP:20260423T113800
CREATED:20150511T180841Z
LAST-MODIFIED:20150511T180841Z
UID:316-1433548800-1433548800@collindalepool.com
SUMMARY:Swim team intersquad meet
DESCRIPTION:
URL:https://collindalepool.com/event/swim-team-intersquad-meet/
END:VEVENT
BEGIN:VEVENT
DTSTART;VALUE=DATE:20150523
DTEND;VALUE=DATE:20150524
DTSTAMP:20260423T113800
CREATED:20150511T180024Z
LAST-MODIFIED:20150522T213800Z
UID:310-1432339200-1432425599@collindalepool.com
SUMMARY:Pool opens!
DESCRIPTION:If the temperature is under 65\, the pool will be closed.  Feel free to check by calling us at (970) 223-0640.
URL:https://collindalepool.com/event/pool-opens/
END:VEVENT
BEGIN:VEVENT
DTSTART;TZID=America/Denver:20150511T180000
DTEND;TZID=America/Denver:20150511T190000
DTSTAMP:20260423T113800
CREATED:20150511T175627Z
LAST-MODIFIED:20150511T183514Z
UID:218-1431367200-1431370800@collindalepool.com
SUMMARY:Swim Team meeting
DESCRIPTION:Memberships will be available for purchase during the meeting.
URL:https://collindalepool.com/event/swim-team-meeting/
END:VEVENT
END:VCALENDAR